{
 "currentVersion": 11.5,
 "cimVersion": "3.5.0",
 "serviceDescription": "Picton 1991\n\nAwatere Valley 1994\n\nHavelock 1994\n\nMarlborough Sounds 1994\nWairau Plains 1996\nWairau Valley 1994",
 "mapName": "Layers",
 "description": "Picton 1991\n\nAwatere Valley 1994\n\nHavelock 1994\n\nMarlborough Sounds 1994\nWairau Plains 1996\nWairau Valley 1994",
 "copyrightText": "Marlborough District Council",
 "supportsDynamicLayers": true,
 "layers": [
  {
   "id": 0,
   "name": "Border",
   "parentLayerId": -1,
   "defaultVisibility": true,
   "subLayerIds": null,
   "minScale": 0,
   "maxScale": 0,
   "type": "Feature Layer",
   "geometryType": "esriGeometryPolygon",
   "supportsDynamicLegends": true
  },
  {
   "id": 1,
   "name": "Picton 1991",
   "parentLayerId": -1,
   "defaultVisibility": true,
   "subLayerIds": null,
   "minScale": 0,
   "maxScale": 0,
   "type": "Raster Layer",
   "supportsDynamicLegends": true
  },
  {
   "id": 2,
   "name": "Awatere River 1994",
   "parentLayerId": -1,
   "defaultVisibility": true,
   "subLayerIds": null,
   "minScale": 0,
   "maxScale": 0,
   "type": "Raster Layer",
   "supportsDynamicLegends": true
  },
  {
   "id": 3,
   "name": "Havelock 1994",
   "parentLayerId": -1,
   "defaultVisibility": true,
   "subLayerIds": null,
   "minScale": 0,
   "maxScale": 0,
   "type": "Raster Layer",
   "supportsDynamicLegends": true
  },
  {
   "id": 9,
   "name": "Wairau Plains 1996",
   "parentLayerId": -1,
   "defaultVisibility": true,
   "subLayerIds": null,
   "minScale": 0,
   "maxScale": 0,
   "type": "Raster Layer",
   "supportsDynamicLegends": true
  },
  {
   "id": 7,
   "name": "Marlborough Sounds 1994",
   "parentLayerId": -1,
   "defaultVisibility": true,
   "subLayerIds": null,
   "minScale": 0,
   "maxScale": 0,
   "type": "Raster Layer",
   "supportsDynamicLegends": true
  },
  {
   "id": 8,
   "name": "Marlborough Sounds 1996",
   "parentLayerId": -1,
   "defaultVisibility": true,
   "subLayerIds": null,
   "minScale": 0,
   "maxScale": 0,
   "type": "Raster Layer",
   "supportsDynamicLegends": true
  },
  {
   "id": 6,
   "name": "Wairau Valley 1994",
   "parentLayerId": -1,
   "defaultVisibility": true,
   "subLayerIds": null,
   "minScale": 0,
   "maxScale": 0,
   "type": "Raster Layer",
   "supportsDynamicLegends": true
  }
 ],
 "tables": [],
 "spatialReference": {
  "wkid": 2193,
  "latestWkid": 2193,
  "xyTolerance": 0.001,
  "zTolerance": 2,
  "mTolerance": 2,
  "falseX": -4020900,
  "falseY": 1900,
  "xyUnits": 4.504455473910538E8,
  "falseZ": 0,
  "zUnits": 1,
  "falseM": -100000,
  "mUnits": 10000
 },
 "singleFusedMapCache": true,
 "tileInfo": {
  "rows": 256,
  "cols": 256,
  "dpi": 96,
  "format": "MIXED",
  "compressionQuality": 75,
  "origin": {
   "x": -4020900,
   "y": 19998100
  },
  "spatialReference": {
   "wkid": 2193,
   "latestWkid": 2193,
   "xyTolerance": 0.001,
   "zTolerance": 0.001,
   "mTolerance": 0.001,
   "falseX": -4020900,
   "falseY": 1900,
   "xyUnits": 4.504455473910538E8,
   "falseZ": -100000,
   "zUnits": 10000,
   "falseM": -100000,
   "mUnits": 10000
  },
  "lods": [
   {
    "level": 0,
    "resolution": 396.87579375158754,
    "scale": 1500000
   },
   {
    "level": 1,
    "resolution": 264.5838625010584,
    "scale": 1000000
   },
   {
    "level": 2,
    "resolution": 132.2919312505292,
    "scale": 500000
   },
   {
    "level": 3,
    "resolution": 66.1459656252646,
    "scale": 250000
   },
   {
    "level": 4,
    "resolution": 33.0729828126323,
    "scale": 125000
   },
   {
    "level": 5,
    "resolution": 26.458386250105836,
    "scale": 100000
   },
   {
    "level": 6,
    "resolution": 13.229193125052918,
    "scale": 50000
   },
   {
    "level": 7,
    "resolution": 6.614596562526459,
    "scale": 25000
   },
   {
    "level": 8,
    "resolution": 2.6458386250105836,
    "scale": 10000
   },
   {
    "level": 9,
    "resolution": 1.3229193125052918,
    "scale": 5000
   },
   {
    "level": 10,
    "resolution": 0.6614596562526459,
    "scale": 2500
   },
   {
    "level": 11,
    "resolution": 0.26458386250105836,
    "scale": 1000
   },
   {
    "level": 12,
    "resolution": 0.13229193125052918,
    "scale": 500
   },
   {
    "level": 13,
    "resolution": 0.06614596562526459,
    "scale": 250
   },
   {
    "level": 14,
    "resolution": 0.033072982812632296,
    "scale": 125
   }
  ]
 },
 "storageInfo": {
  "storageFormat": "esriMapCacheStorageModeCompactV2",
  "packetSize": 128
 },
 "initialExtent": {
  "xmin": 1563235.4598333335,
  "ymin": 5368759.6398,
  "xmax": 1769651.619966667,
  "ymax": 5514934.1738,
  "spatialReference": {
   "wkid": 2193,
   "latestWkid": 2193,
   "xyTolerance": 0.001,
   "zTolerance": 2,
   "mTolerance": 2,
   "falseX": -4020900,
   "falseY": 1900,
   "xyUnits": 4.504455473910538E8,
   "falseZ": 0,
   "zUnits": 1,
   "falseM": -100000,
   "mUnits": 10000
  }
 },
 "fullExtent": {
  "xmin": 1084487.2056,
  "ymin": 4740785.8169,
  "xmax": 1722464.5565,
  "ymax": 5521837.379,
  "spatialReference": {
   "wkid": 2193,
   "latestWkid": 2193,
   "xyTolerance": 0.001,
   "zTolerance": 2,
   "mTolerance": 2,
   "falseX": -4020900,
   "falseY": 1900,
   "xyUnits": 4.504455473910538E8,
   "falseZ": 0,
   "zUnits": 1,
   "falseM": -100000,
   "mUnits": 10000
  }
 },
 "datesInUnknownTimezone": false,
 "minScale": 1500000,
 "maxScale": 125,
 "units": "esriMeters",
 "supportedImageFormatTypes": "PNG32,PNG24,PNG,JPG,DIB,TIFF,EMF,PS,PDF,GIF,SVG,SVGZ,BMP",
 "documentInfo": {
  "Title": "Layers",
  "Author": "",
  "Comments": "Historic Aerial Photos - 1991 to 1996",
  "Subject": "Historic Aerial Photos - 1991 to 1996",
  "Category": "",
  "Version": "2.9.0",
  "AntialiasingMode": "Fast",
  "TextAntialiasingMode": "Force",
  "Keywords": "aerial photos"
 },
 "supportsQueryDomains": true,
 "capabilities": "Map,Query,Data",
 "supportedQueryFormats": "JSON, geoJSON, PBF",
 "exportTilesAllowed": false,
 "referenceScale": 0.0,
 "supportsDatumTransformation": true,
 "archivingInfo": {
  "supportsHistoricMoment": false
 },
 "supportsClipping": true,
 "supportsSpatialFilter": true,
 "supportsTimeRelation": true,
 "supportsQueryDataElements": true,
 "mapUnits": {
  "uwkid": 9001
 },
 "maxSelectionCount": 2000,
 "maxRecordCount": 1000,
 "maxImageHeight": 4096,
 "maxImageWidth": 4096,
 "supportedExtensions": "",
 "resampling": false,
 "serviceItemId": "1056447d1c8b4baca718e7b0892e346f"
}
