{
 "currentVersion": 11.5,
 "cimVersion": "3.5.0",
 "serviceDescription": "Offline basemap, primarily designed to create the tile package used in Collector offline.",
 "mapName": "Layers",
 "description": "Offline basemap, primarily designed to create the tile package used in Collector offline.",
 "copyrightText": "Marlborough District Council",
 "supportsDynamicLayers": true,
 "layers": [
  {
   "id": 78,
   "name": "Low Level",
   "parentLayerId": -1,
   "defaultVisibility": true,
   "subLayerIds": [
    1,
    2,
    80
   ],
   "minScale": 40000,
   "maxScale": 0,
   "type": "Group Layer",
   "supportsDynamicLegends": false
  },
  {
   "id": 1,
   "name": "Bay Name",
   "parentLayerId": 78,
   "defaultVisibility": true,
   "subLayerIds": null,
   "minScale": 40000,
   "maxScale": 0,
   "type": "Feature Layer",
   "geometryType": "esriGeometryPolygon",
   "supportsDynamicLegends": true
  },
  {
   "id": 2,
   "name": "Road Name",
   "parentLayerId": 78,
   "defaultVisibility": true,
   "subLayerIds": null,
   "minScale": 120000,
   "maxScale": 1,
   "type": "Feature Layer",
   "geometryType": "esriGeometryPolyline",
   "supportsDynamicLegends": true
  },
  {
   "id": 80,
   "name": "Aerials",
   "parentLayerId": 78,
   "defaultVisibility": true,
   "subLayerIds": [
    25,
    26,
    27,
    28,
    29,
    30,
    31,
    32,
    33,
    34,
    35,
    76,
    75,
    74,
    73,
    72,
    71,
    70,
    69,
    68,
    67,
    66,
    65,
    64,
    63,
    77,
    0,
    79,
    3
   ],
   "minScale": 40000,
   "maxScale": 0,
   "type": "Group Layer",
   "supportsDynamicLegends": false
  },
  {
   "id": 25,
   "name": "Anakiwa 2024",
   "parentLayerId": 80,
   "defaultVisibility": true,
   "subLayerIds": null,
   "minScale": 0,
   "maxScale": 0,
   "type": "Raster Layer",
   "supportsDynamicLegends": true
  },
  {
   "id": 26,
   "name": "Awatere Water Supply 2024",
   "parentLayerId": 80,
   "defaultVisibility": true,
   "subLayerIds": null,
   "minScale": 0,
   "maxScale": 0,
   "type": "Raster Layer",
   "supportsDynamicLegends": true
  },
  {
   "id": 27,
   "name": "Blenheim 2024",
   "parentLayerId": 80,
   "defaultVisibility": true,
   "subLayerIds": null,
   "minScale": 0,
   "maxScale": 0,
   "type": "Raster Layer",
   "supportsDynamicLegends": true
  },
  {
   "id": 28,
   "name": "Canvastown 2024",
   "parentLayerId": 80,
   "defaultVisibility": true,
   "subLayerIds": null,
   "minScale": 0,
   "maxScale": 0,
   "type": "Raster Layer",
   "supportsDynamicLegends": true
  },
  {
   "id": 29,
   "name": "Duncan Bay 2024",
   "parentLayerId": 80,
   "defaultVisibility": true,
   "subLayerIds": null,
   "minScale": 0,
   "maxScale": 0,
   "type": "Raster Layer",
   "supportsDynamicLegends": true
  },
  {
   "id": 30,
   "name": "Elaine Bay 2024",
   "parentLayerId": 80,
   "defaultVisibility": true,
   "subLayerIds": null,
   "minScale": 0,
   "maxScale": 0,
   "type": "Raster Layer",
   "supportsDynamicLegends": true
  },
  {
   "id": 31,
   "name": "Fairhall 2024",
   "parentLayerId": 80,
   "defaultVisibility": true,
   "subLayerIds": null,
   "minScale": 0,
   "maxScale": 0,
   "type": "Raster Layer",
   "supportsDynamicLegends": true
  },
  {
   "id": 32,
   "name": "Grovetown 2024",
   "parentLayerId": 80,
   "defaultVisibility": true,
   "subLayerIds": null,
   "minScale": 0,
   "maxScale": 0,
   "type": "Raster Layer",
   "supportsDynamicLegends": true
  },
  {
   "id": 33,
   "name": "Havelock 2024",
   "parentLayerId": 80,
   "defaultVisibility": true,
   "subLayerIds": null,
   "minScale": 0,
   "maxScale": 0,
   "type": "Raster Layer",
   "supportsDynamicLegends": true
  },
  {
   "id": 34,
   "name": "Kaiuma Bay 2024",
   "parentLayerId": 80,
   "defaultVisibility": true,
   "subLayerIds": null,
   "minScale": 0,
   "maxScale": 0,
   "type": "Raster Layer",
   "supportsDynamicLegends": true
  },
  {
   "id": 35,
   "name": "Moenui 2024",
   "parentLayerId": 80,
   "defaultVisibility": true,
   "subLayerIds": null,
   "minScale": 0,
   "maxScale": 0,
   "type": "Raster Layer",
   "supportsDynamicLegends": true
  },
  {
   "id": 76,
   "name": "Ngakuta Bay 2024",
   "parentLayerId": 80,
   "defaultVisibility": true,
   "subLayerIds": null,
   "minScale": 0,
   "maxScale": 0,
   "type": "Raster Layer",
   "supportsDynamicLegends": true
  },
  {
   "id": 75,
   "name": "Okiwi 2024",
   "parentLayerId": 80,
   "defaultVisibility": true,
   "subLayerIds": null,
   "minScale": 0,
   "maxScale": 0,
   "type": "Raster Layer",
   "supportsDynamicLegends": true
  },
  {
   "id": 74,
   "name": "Oyster Bay 2024",
   "parentLayerId": 80,
   "defaultVisibility": true,
   "subLayerIds": null,
   "minScale": 0,
   "maxScale": 0,
   "type": "Raster Layer",
   "supportsDynamicLegends": true
  },
  {
   "id": 73,
   "name": "Penzance Bay 2024",
   "parentLayerId": 80,
   "defaultVisibility": true,
   "subLayerIds": null,
   "minScale": 0,
   "maxScale": 0,
   "type": "Raster Layer",
   "supportsDynamicLegends": true
  },
  {
   "id": 72,
   "name": "Picton 2024",
   "parentLayerId": 80,
   "defaultVisibility": true,
   "subLayerIds": null,
   "minScale": 0,
   "maxScale": 0,
   "type": "Raster Layer",
   "supportsDynamicLegends": true
  },
  {
   "id": 71,
   "name": "Rai Valley Township 2024",
   "parentLayerId": 80,
   "defaultVisibility": true,
   "subLayerIds": null,
   "minScale": 0,
   "maxScale": 0,
   "type": "Raster Layer",
   "supportsDynamicLegends": true
  },
  {
   "id": 70,
   "name": "Rarangi 2024",
   "parentLayerId": 80,
   "defaultVisibility": true,
   "subLayerIds": null,
   "minScale": 0,
   "maxScale": 0,
   "type": "Raster Layer",
   "supportsDynamicLegends": true
  },
  {
   "id": 69,
   "name": "Renwick 2024",
   "parentLayerId": 80,
   "defaultVisibility": true,
   "subLayerIds": null,
   "minScale": 0,
   "maxScale": 0,
   "type": "Raster Layer",
   "supportsDynamicLegends": true
  },
  {
   "id": 68,
   "name": "Riverlands 2024",
   "parentLayerId": 80,
   "defaultVisibility": true,
   "subLayerIds": null,
   "minScale": 0,
   "maxScale": 0,
   "type": "Raster Layer",
   "supportsDynamicLegends": true
  },
  {
   "id": 67,
   "name": "Seddon 2024",
   "parentLayerId": 80,
   "defaultVisibility": true,
   "subLayerIds": null,
   "minScale": 0,
   "maxScale": 0,
   "type": "Raster Layer",
   "supportsDynamicLegends": true
  },
  {
   "id": 66,
   "name": "Spring Creek 2024",
   "parentLayerId": 80,
   "defaultVisibility": true,
   "subLayerIds": null,
   "minScale": 0,
   "maxScale": 0,
   "type": "Raster Layer",
   "supportsDynamicLegends": true
  },
  {
   "id": 65,
   "name": "Tuamarina 2024",
   "parentLayerId": 80,
   "defaultVisibility": true,
   "subLayerIds": null,
   "minScale": 0,
   "maxScale": 0,
   "type": "Raster Layer",
   "supportsDynamicLegends": true
  },
  {
   "id": 64,
   "name": "Wairau Valley Township 2024",
   "parentLayerId": 80,
   "defaultVisibility": true,
   "subLayerIds": null,
   "minScale": 0,
   "maxScale": 0,
   "type": "Raster Layer",
   "supportsDynamicLegends": true
  },
  {
   "id": 63,
   "name": "Ward 2024",
   "parentLayerId": 80,
   "defaultVisibility": true,
   "subLayerIds": null,
   "minScale": 0,
   "maxScale": 0,
   "type": "Raster Layer",
   "supportsDynamicLegends": true
  },
  {
   "id": 77,
   "name": "Marlborough Sounds 2024",
   "parentLayerId": 80,
   "defaultVisibility": true,
   "subLayerIds": null,
   "minScale": 0,
   "maxScale": 0,
   "type": "Raster Layer",
   "supportsDynamicLegends": true
  },
  {
   "id": 0,
   "name": "Wairau Awatere 2022",
   "parentLayerId": 80,
   "defaultVisibility": true,
   "subLayerIds": null,
   "minScale": 0,
   "maxScale": 0,
   "type": "Raster Layer",
   "supportsDynamicLegends": true
  },
  {
   "id": 79,
   "name": "Kaikoura 2022",
   "parentLayerId": 80,
   "defaultVisibility": true,
   "subLayerIds": null,
   "minScale": 0,
   "maxScale": 0,
   "type": "Raster Layer",
   "supportsDynamicLegends": true
  },
  {
   "id": 3,
   "name": "Kaikoura 2017",
   "parentLayerId": 80,
   "defaultVisibility": true,
   "subLayerIds": null,
   "minScale": 0,
   "maxScale": 0,
   "type": "Raster Layer",
   "supportsDynamicLegends": true
  },
  {
   "id": 36,
   "name": "High Level",
   "parentLayerId": -1,
   "defaultVisibility": true,
   "subLayerIds": [
    37,
    38,
    47,
    52,
    53,
    62
   ],
   "minScale": 0,
   "maxScale": 40000,
   "type": "Group Layer",
   "supportsDynamicLegends": false
  },
  {
   "id": 37,
   "name": "Marlborough Boundary",
   "parentLayerId": 36,
   "defaultVisibility": true,
   "subLayerIds": null,
   "minScale": 0,
   "maxScale": 40000,
   "type": "Feature Layer",
   "geometryType": "esriGeometryPolygon",
   "supportsDynamicLegends": true
  },
  {
   "id": 38,
   "name": "Place Name Labels",
   "parentLayerId": 36,
   "defaultVisibility": true,
   "subLayerIds": [
    39,
    40,
    41,
    44
   ],
   "minScale": 2000000,
   "maxScale": 40000,
   "type": "Group Layer",
   "supportsDynamicLegends": false
  },
  {
   "id": 39,
   "name": "1:1,500,000 - 1:1,000,000",
   "parentLayerId": 38,
   "defaultVisibility": true,
   "subLayerIds": null,
   "minScale": 2000000,
   "maxScale": 800000,
   "type": "Feature Layer",
   "geometryType": "esriGeometryPoint",
   "supportsDynamicLegends": true
  },
  {
   "id": 40,
   "name": "1:500,000",
   "parentLayerId": 38,
   "defaultVisibility": true,
   "subLayerIds": null,
   "minScale": 799999,
   "maxScale": 400000,
   "type": "Feature Layer",
   "geometryType": "esriGeometryPoint",
   "supportsDynamicLegends": true
  },
  {
   "id": 41,
   "name": "1:250,000",
   "parentLayerId": 38,
   "defaultVisibility": true,
   "subLayerIds": [
    42,
    43
   ],
   "minScale": 399999,
   "maxScale": 200000,
   "type": "Group Layer",
   "supportsDynamicLegends": false
  },
  {
   "id": 42,
   "name": "Marlborough",
   "parentLayerId": 41,
   "defaultVisibility": true,
   "subLayerIds": null,
   "minScale": 399999,
   "maxScale": 200000,
   "type": "Feature Layer",
   "geometryType": "esriGeometryPoint",
   "supportsDynamicLegends": true
  },
  {
   "id": 43,
   "name": "New Zealand",
   "parentLayerId": 41,
   "defaultVisibility": true,
   "subLayerIds": null,
   "minScale": 399999,
   "maxScale": 200000,
   "type": "Feature Layer",
   "geometryType": "esriGeometryPoint",
   "supportsDynamicLegends": true
  },
  {
   "id": 44,
   "name": "1:125,000 - 1:50,000",
   "parentLayerId": 38,
   "defaultVisibility": true,
   "subLayerIds": [
    45,
    46
   ],
   "minScale": 199999,
   "maxScale": 40000,
   "type": "Group Layer",
   "supportsDynamicLegends": false
  },
  {
   "id": 45,
   "name": "Marlborough",
   "parentLayerId": 44,
   "defaultVisibility": true,
   "subLayerIds": null,
   "minScale": 199999,
   "maxScale": 40000,
   "type": "Feature Layer",
   "geometryType": "esriGeometryPoint",
   "supportsDynamicLegends": true
  },
  {
   "id": 46,
   "name": "New Zealand",
   "parentLayerId": 44,
   "defaultVisibility": true,
   "subLayerIds": null,
   "minScale": 199999,
   "maxScale": 40000,
   "type": "Feature Layer",
   "geometryType": "esriGeometryPoint",
   "supportsDynamicLegends": true
  },
  {
   "id": 47,
   "name": "Road Centreline",
   "parentLayerId": 36,
   "defaultVisibility": true,
   "subLayerIds": [
    48,
    49,
    50,
    51
   ],
   "minScale": 0,
   "maxScale": 0,
   "type": "Group Layer",
   "supportsDynamicLegends": false
  },
  {
   "id": 48,
   "name": "1:1,500,000 - 1:500,000",
   "parentLayerId": 47,
   "defaultVisibility": true,
   "subLayerIds": null,
   "minScale": 2000000,
   "maxScale": 400000,
   "type": "Feature Layer",
   "geometryType": "esriGeometryPolyline",
   "supportsDynamicLegends": true
  },
  {
   "id": 49,
   "name": "1:250,000 - 1:125,000",
   "parentLayerId": 47,
   "defaultVisibility": true,
   "subLayerIds": null,
   "minScale": 400000,
   "maxScale": 120000,
   "type": "Feature Layer",
   "geometryType": "esriGeometryPolyline",
   "supportsDynamicLegends": true
  },
  {
   "id": 50,
   "name": "1:100,000",
   "parentLayerId": 47,
   "defaultVisibility": true,
   "subLayerIds": null,
   "minScale": 120000,
   "maxScale": 85000,
   "type": "Feature Layer",
   "geometryType": "esriGeometryPolyline",
   "supportsDynamicLegends": true
  },
  {
   "id": 51,
   "name": "1:50,000",
   "parentLayerId": 47,
   "defaultVisibility": true,
   "subLayerIds": null,
   "minScale": 85000,
   "maxScale": 40000,
   "type": "Feature Layer",
   "geometryType": "esriGeometryPolyline",
   "supportsDynamicLegends": true
  },
  {
   "id": 52,
   "name": "Railway Centreline",
   "parentLayerId": 36,
   "defaultVisibility": true,
   "subLayerIds": null,
   "minScale": 0,
   "maxScale": 0,
   "type": "Feature Layer",
   "geometryType": "esriGeometryPolyline",
   "supportsDynamicLegends": true
  },
  {
   "id": 53,
   "name": "Basemap",
   "parentLayerId": 36,
   "defaultVisibility": true,
   "subLayerIds": [
    54,
    55,
    56,
    59
   ],
   "minScale": 0,
   "maxScale": 0,
   "type": "Group Layer",
   "supportsDynamicLegends": false
  },
  {
   "id": 54,
   "name": "Bathymetry",
   "parentLayerId": 53,
   "defaultVisibility": true,
   "subLayerIds": null,
   "minScale": 0,
   "maxScale": 0,
   "type": "Raster Layer",
   "supportsDynamicLegends": true
  },
  {
   "id": 55,
   "name": "Marlborough Basemap",
   "parentLayerId": 53,
   "defaultVisibility": true,
   "subLayerIds": null,
   "minScale": 0,
   "maxScale": 0,
   "type": "Raster Layer",
   "supportsDynamicLegends": true
  },
  {
   "id": 56,
   "name": "North Island",
   "parentLayerId": 53,
   "defaultVisibility": true,
   "subLayerIds": [
    57,
    58
   ],
   "minScale": 0,
   "maxScale": 0,
   "type": "Group Layer",
   "supportsDynamicLegends": false
  },
  {
   "id": 57,
   "name": "Land Cover",
   "parentLayerId": 56,
   "defaultVisibility": true,
   "subLayerIds": null,
   "minScale": 0,
   "maxScale": 0,
   "type": "Raster Layer",
   "supportsDynamicLegends": true
  },
  {
   "id": 58,
   "name": "North Island",
   "parentLayerId": 56,
   "defaultVisibility": true,
   "subLayerIds": null,
   "minScale": 0,
   "maxScale": 0,
   "type": "Raster Layer",
   "supportsDynamicLegends": true
  },
  {
   "id": 59,
   "name": "South Island",
   "parentLayerId": 53,
   "defaultVisibility": true,
   "subLayerIds": [
    60,
    61
   ],
   "minScale": 0,
   "maxScale": 0,
   "type": "Group Layer",
   "supportsDynamicLegends": false
  },
  {
   "id": 60,
   "name": "Land Cover",
   "parentLayerId": 59,
   "defaultVisibility": true,
   "subLayerIds": null,
   "minScale": 0,
   "maxScale": 0,
   "type": "Raster Layer",
   "supportsDynamicLegends": true
  },
  {
   "id": 61,
   "name": "South Island",
   "parentLayerId": 59,
   "defaultVisibility": true,
   "subLayerIds": null,
   "minScale": 0,
   "maxScale": 0,
   "type": "Raster Layer",
   "supportsDynamicLegends": true
  },
  {
   "id": 62,
   "name": "Sea Floor Background",
   "parentLayerId": 36,
   "defaultVisibility": true,
   "subLayerIds": null,
   "minScale": 0,
   "maxScale": 0,
   "type": "Feature Layer",
   "geometryType": "esriGeometryPolygon",
   "supportsDynamicLegends": true
  }
 ],
 "tables": [],
 "spatialReference": {
  "wkid": 2193,
  "latestWkid": 2193,
  "xyTolerance": 0.001,
  "zTolerance": 0.001,
  "mTolerance": 0.001,
  "falseX": -4020900,
  "falseY": 1900,
  "xyUnits": 4.504455473910538E8,
  "falseZ": -100000,
  "zUnits": 10000,
  "falseM": -100000,
  "mUnits": 10000
 },
 "singleFusedMapCache": true,
 "tileInfo": {
  "rows": 256,
  "cols": 256,
  "dpi": 96,
  "format": "MIXED",
  "compressionQuality": 75,
  "origin": {
   "x": -4020900,
   "y": 19998100
  },
  "spatialReference": {
   "wkid": 2193,
   "latestWkid": 2193,
   "xyTolerance": 0.001,
   "zTolerance": 0.001,
   "mTolerance": 0.001,
   "falseX": -4020900,
   "falseY": 1900,
   "xyUnits": 4.504455473910538E8,
   "falseZ": -100000,
   "zUnits": 10000,
   "falseM": -100000,
   "mUnits": 10000
  },
  "lods": [
   {
    "level": 0,
    "resolution": 2645.8386250105837,
    "scale": 10000000
   },
   {
    "level": 1,
    "resolution": 1322.9193125052918,
    "scale": 5000000
   },
   {
    "level": 2,
    "resolution": 661.4596562526459,
    "scale": 2500000
   },
   {
    "level": 3,
    "resolution": 396.87579375158754,
    "scale": 1500000
   },
   {
    "level": 4,
    "resolution": 264.5838625010584,
    "scale": 1000000
   },
   {
    "level": 5,
    "resolution": 132.2919312505292,
    "scale": 500000
   },
   {
    "level": 6,
    "resolution": 66.1459656252646,
    "scale": 250000
   },
   {
    "level": 7,
    "resolution": 33.0729828126323,
    "scale": 125000
   },
   {
    "level": 8,
    "resolution": 26.458386250105836,
    "scale": 100000
   },
   {
    "level": 9,
    "resolution": 13.229193125052918,
    "scale": 50000
   },
   {
    "level": 10,
    "resolution": 6.614596562526459,
    "scale": 25000
   },
   {
    "level": 11,
    "resolution": 2.6458386250105836,
    "scale": 10000
   },
   {
    "level": 12,
    "resolution": 1.3229193125052918,
    "scale": 5000
   }
  ]
 },
 "storageInfo": {
  "storageFormat": "esriMapCacheStorageModeCompactV2",
  "packetSize": 128
 },
 "initialExtent": {
  "xmin": 1514167.1061316875,
  "ymin": 5291081.247262281,
  "xmax": 1794890.5842453104,
  "ymax": 5519946.288325696,
  "spatialReference": {
   "wkid": 2193,
   "latestWkid": 2193,
   "xyTolerance": 0.001,
   "zTolerance": 0.001,
   "mTolerance": 0.001,
   "falseX": -4020900,
   "falseY": 1900,
   "xyUnits": 4.504455473910538E8,
   "falseZ": -100000,
   "zUnits": 10000,
   "falseM": -100000,
   "mUnits": 10000
  }
 },
 "fullExtent": {
  "xmin": 150640.35749999993,
  "ymin": 3897715.8206,
  "xmax": 3351411.273,
  "ymax": 6956638.0882,
  "spatialReference": {
   "wkid": 2193,
   "latestWkid": 2193,
   "xyTolerance": 0.001,
   "zTolerance": 0.001,
   "mTolerance": 0.001,
   "falseX": -4020900,
   "falseY": 1900,
   "xyUnits": 4.504455473910538E8,
   "falseZ": -100000,
   "zUnits": 10000,
   "falseM": -100000,
   "mUnits": 10000
  }
 },
 "datesInUnknownTimezone": false,
 "minScale": 10000000,
 "maxScale": 5000,
 "units": "esriMeters",
 "supportedImageFormatTypes": "PNG32,PNG24,PNG,JPG,DIB,TIFF,EMF,PS,PDF,GIF,SVG,SVGZ,BMP",
 "documentInfo": {
  "Title": "Layers",
  "Author": "",
  "Comments": "Offline basemap, primarily designed to create tile packages.",
  "Subject": "Offline basemap, primarily designed to create tile packages.",
  "Category": "",
  "Version": "2.9.0",
  "AntialiasingMode": "Fast",
  "TextAntialiasingMode": "Force",
  "Keywords": "offline basemap,collector"
 },
 "supportsQueryDomains": true,
 "capabilities": "Map,Query,Data",
 "supportedQueryFormats": "JSON, geoJSON, PBF",
 "exportTilesAllowed": false,
 "referenceScale": 0.0,
 "supportsDatumTransformation": true,
 "floorAwareMapProperties": {
  "defaultFloorFilterSettings": {
   "isEnabled": false
  }
 },
 "archivingInfo": {
  "supportsHistoricMoment": false
 },
 "supportsClipping": true,
 "supportsSpatialFilter": true,
 "supportsTimeRelation": true,
 "supportsQueryDataElements": true,
 "mapUnits": {
  "uwkid": 9001
 },
 "maxSelectionCount": 2000,
 "maxRecordCount": 1000,
 "maxImageHeight": 4096,
 "maxImageWidth": 4096,
 "supportedExtensions": "",
 "resampling": false,
 "serviceItemId": "7be376c8ee404d1db9b70f055cc8189a"
}
