{
 "currentVersion": 11.5,
 "serviceDescription": "Water depth raster for use in Smart Maps.",
 "serviceItemId": "602ef4c7edfd4144ae0d67d4fd0bca85",
 "name": "ImageServices/MultibeamWaterDepth",
 "description": "",
 "extent": {
  "xmin": 1643005,
  "ymin": 5332267,
  "xmax": 1736011,
  "ymax": 5501231,
  "spatialReference": {
   "wkid": 2193,
   "latestWkid": 2193
  }
 },
 "initialExtent": {
  "xmin": 1643005,
  "ymin": 5332267,
  "xmax": 1736011,
  "ymax": 5501231,
  "spatialReference": {
   "wkid": 2193,
   "latestWkid": 2193
  }
 },
 "fullExtent": {
  "xmin": 1643005,
  "ymin": 5332267,
  "xmax": 1736011,
  "ymax": 5501231,
  "spatialReference": {
   "wkid": 2193,
   "latestWkid": 2193
  }
 },
 "sortableFields": "",
 "bandCount": 1,
 "pixelType": "F32",
 "minValues": [
  -385.4700012207031
 ],
 "maxValues": [
  61.465999603271484
 ],
 "meanValues": [
  -47.49571772436138
 ],
 "stdvValues": [
  42.286845499246304
 ],
 "serviceProperties": "Center<\/MosaicMethod>First<\/MosaicOperator>true<\/SortAscending><\/LockImageID><\/TileOrderField>0<\/TileOrderBase>0.000000<\/AvgImageSpacingX>0.000000<\/AvgImageSpacingY>0.0<\/ViewPointX>0.0<\/ViewPointY>0.0<\/ViewPointDefShiftX>0.0<\/ViewPointDefShiftY>None<\/CompressionMethod>75<\/CompressionQuality>0.010000<\/CompressionTolerance>Bilinear<\/SamplingMethod><\/ImageServiceProperties><\/ImageServer>",
 "allowedFields": "",
 "hasMultidimensions": false,
 "pixelSizeX": 2,
 "pixelSizeY": 2,
 "meanPixelSize": 2,
 "datasetFormat": "SDR",
 "uncompressedSize": 15714665784,
 "blockWidth": 128,
 "blockHeight": 128,
 "compressionType": "LZ77",
 "bandNames": [
  "Band_1"
 ],
 "allowCopy": true,
 "allowAnalysis": true,
 "itemAccess": false,
 "inspectionCapabilities": "",
 "minPixelSize": 0,
 "maxPixelSize": 0,
 "copyrightText": "NIWA, DML, LINZ",
 "serviceDataType": "esriImageServiceDataTypeGeneric",
 "serviceSourceType": "esriImageServiceSourceTypeDataset",
 "objectIdField": "",
 "fields": [],
 "capabilities": "Mensuration,Image,Metadata",
 "defaultMosaicMethod": "Center",
 "allowedMosaicMethods": "",
 "sortField": "",
 "sortValue": null,
 "sortAscending": true,
 "mosaicOperator": "First",
 "defaultCompressionQuality": 75,
 "defaultResamplingMethod": "Bilinear",
 "maxImageHeight": 4100,
 "maxImageWidth": 15000,
 "allowRasterFunction": true,
 "rasterFunctionInfos": [
  {
   "name": "None",
   "description": "",
   "help": ""
  }
 ],
 "rasterTypeInfos": [
  {
   "name": "Raster Dataset",
   "description": "Supports all ArcGIS Raster Datasets",
   "help": ""
  }
 ],
 "mensurationCapabilities": "Basic",
 "hasHistograms": true,
 "hasColormap": false,
 "hasRasterAttributeTable": false,
 "minScale": 0,
 "maxScale": 0,
 "exportTilesAllowed": false,
 "supportsStatistics": false,
 "supportsAdvancedQueries": false,
 "editFieldsInfo": null,
 "ownershipBasedAccessControlForRasters": null,
 "allowComputeTiePoints": false,
 "useStandardizedQueries": true,
 "advancedQueryCapabilities": {
  "useStandardizedQueries": true,
  "supportsStatistics": false,
  "supportsOrderBy": false,
  "supportsDistinct": false,
  "supportsPagination": false
 },
 "spatialReference": {
  "wkid": 2193,
  "latestWkid": 2193
 }
}
