View In:
ArcGIS JavaScript
ArcGIS Online Map Viewer
ArcGIS Earth
Service Description: Raster provided by NIWA showing mean annual rainfall in New Zealand from 1961 to 2015.Dataset provided by NIWA in July 2018. MDC Processing - Clipped to Marlborough land boundary.
Name: ImageServices/MarlboroughMeanAnnualRainfall
Description:
Single Fused Map Cache: false
Extent:
XMin: 1576485.633121471
YMin: 5296110.37600684
XMax: 1721485.633121471
YMax: 5498610.37600684
Spatial Reference: 2193
(2193)
LatestVCSWkid(0)
Initial Extent:
XMin: 1576485.633121471
YMin: 5296110.37600684
XMax: 1721485.633121471
YMax: 5498610.37600684
Spatial Reference: 2193
(2193)
LatestVCSWkid(0)
Full Extent:
XMin: 1576485.633121471
YMin: 5296110.37600684
XMax: 1721485.633121471
YMax: 5498610.37600684
Spatial Reference: 2193
(2193)
LatestVCSWkid(0)
Pixel Size X: 500.0
Pixel Size Y: 500.0
Band Count: 1
Pixel Type: F32
RasterFunction Infos: {"rasterFunctionInfos": [{
"name": "None",
"description": "",
"help": ""
}]}
Mensuration Capabilities: Basic
Inspection Capabilities:
Has Histograms: true
Has Colormap: false
Has Multi Dimensions : false
Rendering Rule:
Min Scale: 0
Max Scale: 0
Copyright Text: NIWA
Service Data Type: esriImageServiceDataTypeGeneric
Min Values: 501.08245849609375
Max Values: 3246.1455078125
Mean Values: 1386.4420766708397
Standard Deviation Values: 539.8229798609239
Object ID Field:
Fields:
None
Default Mosaic Method: Center
Allowed Mosaic Methods:
SortField:
SortValue: null
Mosaic Operator: First
Default Compression Quality: 75
Default Resampling Method: Bilinear
Max Record Count: null
Max Image Height: 4100
Max Image Width: 15000
Max Download Image Count: null
Max Mosaic Image Count: null
Allow Raster Function: true
Allow Copy: true
Allow Analysis: true
Allow Compute TiePoints: false
Supports Statistics: false
Supports Advanced Queries: false
Use StandardizedQueries: true
Raster Type Infos:
Name: Raster Dataset
Description: Supports all ArcGIS Raster Datasets
Help:
Has Raster Attribute Table: false
Edit Fields Info: null
Ownership Based AccessControl For Rasters: null
Child Resources:
Info
Histograms
Statistics
Key Properties
Legend
Raster Function Infos
Supported Operations:
Export Image
Identify
Measure
Compute Histograms
Compute Statistics Histograms
Get Samples
Compute Class Statistics
Query Boundary
Compute Pixel Location
Compute Angles
Validate
Project