View In:
ArcGIS JavaScript
ArcGIS Online Map Viewer
ArcGIS Earth
Service Description: Water depth raster for use in Smart Maps.
Name: ImageServices/MultibeamWaterDepth
Description:
Single Fused Map Cache: false
Extent:
XMin: 1643005.0
YMin: 5332267.0
XMax: 1736011.0
YMax: 5501231.0
Spatial Reference: 2193
(2193)
LatestVCSWkid(0)
Initial Extent:
XMin: 1643005.0
YMin: 5332267.0
XMax: 1736011.0
YMax: 5501231.0
Spatial Reference: 2193
(2193)
LatestVCSWkid(0)
Full Extent:
XMin: 1643005.0
YMin: 5332267.0
XMax: 1736011.0
YMax: 5501231.0
Spatial Reference: 2193
(2193)
LatestVCSWkid(0)
Pixel Size X: 2.0
Pixel Size Y: 2.0
Band Count: 1
Pixel Type: F32
RasterFunction Infos: {"rasterFunctionInfos": [{
"name": "None",
"description": "",
"help": ""
}]}
Mensuration Capabilities: Basic
Inspection Capabilities:
Has Histograms: true
Has Colormap: false
Has Multi Dimensions : false
Rendering Rule:
Min Scale: 0
Max Scale: 0
Copyright Text: NIWA, DML, LINZ
Service Data Type: esriImageServiceDataTypeGeneric
Min Values: -385.4700012207031
Max Values: 61.465999603271484
Mean Values: -47.49571772436138
Standard Deviation Values: 42.286845499246304
Object ID Field:
Fields:
None
Default Mosaic Method: Center
Allowed Mosaic Methods:
SortField:
SortValue: null
Mosaic Operator: First
Default Compression Quality: 75
Default Resampling Method: Bilinear
Max Record Count: null
Max Image Height: 4100
Max Image Width: 15000
Max Download Image Count: null
Max Mosaic Image Count: null
Allow Raster Function: true
Allow Copy: true
Allow Analysis: true
Allow Compute TiePoints: false
Supports Statistics: false
Supports Advanced Queries: false
Use StandardizedQueries: true
Raster Type Infos:
Name: Raster Dataset
Description: Supports all ArcGIS Raster Datasets
Help:
Has Raster Attribute Table: false
Edit Fields Info: null
Ownership Based AccessControl For Rasters: null
Child Resources:
Info
Histograms
Statistics
Key Properties
Legend
Raster Function Infos
Supported Operations:
Export Image
Identify
Measure
Compute Histograms
Compute Statistics Histograms
Get Samples
Compute Class Statistics
Query Boundary
Compute Pixel Location
Compute Angles
Validate
Project